BEGIN:VCALENDAR
VERSION:2.0
PRODID:-//Caen Ça Swing - ECPv6.7.0//NONSGML v1.0//EN
CALSCALE:GREGORIAN
METHOD:PUBLISH
X-WR-CALNAME:Caen Ça Swing
X-ORIGINAL-URL:https://www.caencaswing.fr
X-WR-CALDESC:Évènements pour Caen Ça Swing
REFRESH-INTERVAL;VALUE=DURATION:PT1H
X-Robots-Tag:noindex
X-PUBLISHED-TTL:PT1H
BEGIN:VTIMEZONE
TZID:Europe/Paris
BEGIN:DAYLIGHT
TZOFFSETFROM:+0100
TZOFFSETTO:+0200
TZNAME:CEST
DTSTART:20260329T010000
END:DAYLIGHT
BEGIN:STANDARD
TZOFFSETFROM:+0200
TZOFFSETTO:+0100
TZNAME:CET
DTSTART:20261025T010000
END:STANDARD
END:VTIMEZONE
BEGIN:VEVENT
DTSTART;TZID=Europe/Paris:20260505T200000
DTEND;TZID=Europe/Paris:20260505T235900
DTSTAMP:20260419T142949
CREATED:20251230T213440Z
LAST-MODIFIED:20251230T213440Z
UID:7269-1778011200-1778025540@www.caencaswing.fr
SUMMARY:Bar'Swing au Café Saint-Pierre
DESCRIPTION:Une petite soirée conviviale pour boire un verre\, discuter\, grignoter… et s’éclater en dansant du Lindy Hop\, du Solo Jazz et du Blues ! \nTu n’as jamais dansé le swing et ça t’intéresse ? Viens nous voir et nous poser toutes tes questions Vous êtes tous·tes les bienvenu·es\, amène tes ami·es\, ta famille… On vous accueillera avec plaisir ! \n— \nGratuit – Une conso au bar est encouragée 🙂
URL:https://www.caencaswing.fr/evenement/barswing-au-cafe-saint-pierre-5mai/
LOCATION:Café Saint-Pierre\, 135 rue Saint-Pierre\, Caen\, 14000
CATEGORIES:Sortie swing
ATTACH;FMTTYPE=image/png:https://www.caencaswing.fr/wp-content/uploads/2025/09/FB-Event-Barswing-GENERIQUE3.png
END:VEVENT
BEGIN:VEVENT
DTSTART;TZID=Europe/Paris:20260519T200000
DTEND;TZID=Europe/Paris:20260519T235900
DTSTAMP:20260419T142949
CREATED:20251230T212544Z
LAST-MODIFIED:20251230T212544Z
UID:7258-1779220800-1779235140@www.caencaswing.fr
SUMMARY:Bar'Blues à la Garsouille
DESCRIPTION:Une petite soirée conviviale pour danser le Blues\, boire un verre\, discuter\, grignoter… et s’éclater ! \nTu n’as jamais dansé le Blues et ça t’intéresse ? Viens nous voir et nous poser toutes tes questions Vous êtes tous·tes les bienvenu·es\, amène tes ami·es\, ta famille… On vous accueillera avec plaisir ! \n— \nGratuit – Une conso au bar est encouragée
URL:https://www.caencaswing.fr/evenement/barblues-a-la-garsouille-19mai/
LOCATION:La Garsouille\, 11 Rue Arcisse de Caumont\, Caen\, 14000\, France
CATEGORIES:Sortie swing
ATTACH;FMTTYPE=image/png:https://www.caencaswing.fr/wp-content/uploads/2025/01/Copie-de-FB-Event-Barswing-2.png
END:VEVENT
BEGIN:VEVENT
DTSTART;TZID=Europe/Paris:20260530T140000
DTEND;TZID=Europe/Paris:20260530T180000
DTSTAMP:20260419T142949
CREATED:20260415T190642Z
LAST-MODIFIED:20260415T192312Z
UID:7681-1780149600-1780164000@www.caencaswing.fr
SUMMARY:Croq'Disco - Stage de danse disco et de croquis
DESCRIPTION:En mai\, on fait ce qu’il nous plaît ! Alors on a décidé d’organiser un petit stage bi-goût 🙂 \nAu programme :\n14h – Un atelier de danse disco avec Juliette pour groover\, s’éclater et lâcher prise !\n15h15 – Un atelier de croquis avec Rachel pour apprendre à dessiner des gens qui dansent (bah ouais\, c’est le thème quand même !)\n16h30 – C’est enfin l’heure du goûter ! On va déguster des croq’ sucrés (recettes en cours d’invention)\, miam ! \nPrêt·e à venir croquer la vie avec nous ? 😀 \n—\nMatériel de dessin fourni.\nBilletterie en ligne sur Helloasso (limité à 15 places) ! \n 
URL:https://www.caencaswing.fr/evenement/croqdisco/
LOCATION:Les Ateliers Intermédiaires\, 15 bis rue Dumont d'Urville\, Caen\, 14000\, France
CATEGORIES:Stage
ATTACH;FMTTYPE=image/png:https://www.caencaswing.fr/wp-content/uploads/2026/04/CCS_Stage_CroqDisco2b.png
END:VEVENT
END:VCALENDAR